BEGIN:VCALENDAR
VERSION:2.0
PRODID:-//NZASH - ECPv4.9.13//NONSGML v1.0//EN
CALSCALE:GREGORIAN
METHOD:PUBLISH
X-WR-CALNAME:NZASH
X-ORIGINAL-URL:https://nzash.co.nz
X-WR-CALDESC:Events for NZASH
BEGIN:VTIMEZONE
TZID:Pacific/Auckland
BEGIN:STANDARD
TZOFFSETFROM:+1300
TZOFFSETTO:+1200
TZNAME:NZST
DTSTART:20180331T140000
END:STANDARD
BEGIN:DAYLIGHT
TZOFFSETFROM:+1200
TZOFFSETTO:+1300
TZNAME:NZDT
DTSTART:20180929T140000
END:DAYLIGHT
END:VTIMEZONE
BEGIN:VEVENT
DTSTART;VALUE=DATE:20180514
DTEND;VALUE=DATE:20180517
DTSTAMP:20191222T021428
CREATED:20170919T084819Z
LAST-MODIFIED:20170919T084819Z
UID:1542-1526256000-1526515199@nzash.co.nz
SUMMARY:IPSS - Symposium and Workshops\, May 14-16\, 2018\, Amsterdam\, Netherlands
DESCRIPTION:International Pediatric Simulation Society (IPSS) \nSymposia and Workshops\, May 14-16\, 2018\, Amsterdam\, Netherlands \nhttp://ipssglobal.org/ipssw-2018/ \n \n
URL:https://nzash.co.nz/event/ipss-symposium-and-workshops-may-14-16-2018-amsterdam-netherlands/
END:VEVENT
END:VCALENDAR