BEGIN:VCALENDAR
VERSION:2.0
PRODID:-//NZASH - ECPv4.9.13//NONSGML v1.0//EN
CALSCALE:GREGORIAN
METHOD:PUBLISH
X-WR-CALNAME:NZASH
X-ORIGINAL-URL:https://nzash.co.nz
X-WR-CALDESC:Events for NZASH
BEGIN:VTIMEZONE
TZID:UTC
BEGIN:STANDARD
TZOFFSETFROM:+0000
TZOFFSETTO:+0000
TZNAME:UTC
DTSTART:20180101T000000
END:STANDARD
END:VTIMEZONE
BEGIN:VEVENT
DTSTART;VALUE=DATE:20180113
DTEND;VALUE=DATE:20180118
DTSTAMP:20191222T022135
CREATED:20170627T222927Z
LAST-MODIFIED:20170627T223258Z
UID:1399-1515801600-1516233599@nzash.co.nz
SUMMARY:IMSH 2018 Los Angeles
DESCRIPTION: \n \nAs part of our affiliation with SSH\, two free registrations are offered to current NZASH members. Please see ‘Policies’ under “About NZASH’ for details and to apply. \n
URL:https://nzash.co.nz/event/imsh-2018-los-angeles/
END:VEVENT
END:VCALENDAR