BEGIN:VCALENDAR
VERSION:2.0
PRODID:-//NZASH - ECPv4.9.13//NONSGML v1.0//EN
CALSCALE:GREGORIAN
METHOD:PUBLISH
X-WR-CALNAME:NZASH
X-ORIGINAL-URL:https://nzash.co.nz
X-WR-CALDESC:Events for NZASH
BEGIN:VTIMEZONE
TZID:Pacific/Auckland
BEGIN:STANDARD
TZOFFSETFROM:+1300
TZOFFSETTO:+1200
TZNAME:NZST
DTSTART:20180331T140000
END:STANDARD
BEGIN:DAYLIGHT
TZOFFSETFROM:+1200
TZOFFSETTO:+1300
TZNAME:NZDT
DTSTART:20180929T140000
END:DAYLIGHT
END:VTIMEZONE
BEGIN:VEVENT
DTSTART;VALUE=DATE:20180617
DTEND;VALUE=DATE:20180621
DTSTAMP:20191222T022101
CREATED:20170919T082908Z
LAST-MODIFIED:20170919T083402Z
UID:1530-1529193600-1529539199@nzash.co.nz
SUMMARY:ASPE - 17th Annual Conference\, June 17-20\, 2018\, Kansas City\, Missouri\, USA
DESCRIPTION:Association of Standardized Patient Educators (ASPE) \n17th Annual Conference\, June 17-20\, 2018\, Kansas City\, Missouri\, USA \nhttp://www.aspeducators.org/future-conferences \n
URL:https://nzash.co.nz/event/association-of-standardized-patient-educators-aspe/
END:VEVENT
END:VCALENDAR